BEGIN:VCALENDAR
VERSION:2.0
PRODID:-//www.kutterpullen-brake.de - ECPv6.15.20//NONSGML v1.0//EN
CALSCALE:GREGORIAN
METHOD:PUBLISH
X-ORIGINAL-URL:https://kutterpullen-brake.de
X-WR-CALDESC:Veranstaltungen für www.kutterpullen-brake.de
REFRESH-INTERVAL;VALUE=DURATION:PT1H
X-Robots-Tag:noindex
X-PUBLISHED-TTL:PT1H
BEGIN:VTIMEZONE
TZID:UTC
BEGIN:STANDARD
TZOFFSETFROM:+0000
TZOFFSETTO:+0000
TZNAME:UTC
DTSTART:20230101T000000
END:STANDARD
END:VTIMEZONE
BEGIN:VEVENT
DTSTART;TZID=UTC:20250405T093000
DTEND;TZID=UTC:20250405T093000
DTSTAMP:20260419T215608
CREATED:20250321T061547Z
LAST-MODIFIED:20250321T061547Z
UID:702-1743845400-1743845400@kutterpullen-brake.de
SUMMARY:Frühjahrsputz
DESCRIPTION:Hallo zusammen\, \n  \nam Samstag 05. April 2025 ab 9:30 Uhr soll das alljährliche Frühlingserwachen stattfinden. \n  \nWas bedeutet das eigentlich? \n  \nIm Bootshaus: \nWir putzen die Fenster \nWir räumen die Küche inkl. Schränke auf \nWir räumen den Tresen Bereich auf \n  \nWir reinigen die Wandfliesen im Sanitärbereich \n  \nDie Außenbeleuchtung am Balkon müsste repariert werden \n  \nIn den Außenanlagen Binnenhafen: \nWenn wir schon Wildwuchs feststellen\, wird dieser entfernt \nDie Stege werden gereinigt \nAufklaren des Jugendcontainers \n  \nAn den Arbeitsbooten und Motorkutter Merlin: \nReinigen der Boote \n  \n  \nBitte gebt kurze Info\, wer und ggf. von wann bis wann ihr dabei sein könnt und möchtet\, um uns eine bessere Planung zu ermöglichen. \n  \nVielen Dank! \n 
URL:https://kutterpullen-brake.de/event/fruehjahrsputz/
END:VEVENT
BEGIN:VEVENT
DTSTART;TZID=UTC:20241019T080000
DTEND;TZID=UTC:20241019T170000
DTSTAMP:20260419T215608
CREATED:20240314T065856Z
LAST-MODIFIED:20240314T065856Z
UID:104-1729324800-1729357200@kutterpullen-brake.de
SUMMARY:Bootshalle aufräumen
DESCRIPTION:
URL:https://kutterpullen-brake.de/event/bootshalle-aufraeumen/
END:VEVENT
BEGIN:VEVENT
DTSTART;TZID=UTC:20240817T180000
DTEND;TZID=UTC:20240817T233000
DTSTAMP:20260419T215608
CREATED:20240314T065759Z
LAST-MODIFIED:20240314T065759Z
UID:102-1723917600-1723937400@kutterpullen-brake.de
SUMMARY:Südanlagenfest
DESCRIPTION:
URL:https://kutterpullen-brake.de/event/suedanlagenfest/
END:VEVENT
BEGIN:VEVENT
DTSTART;VALUE=DATE:20240803
DTEND;VALUE=DATE:20240804
DTSTAMP:20260419T215608
CREATED:20240314T065525Z
LAST-MODIFIED:20240314T065525Z
UID:98-1722643200-1722729599@kutterpullen-brake.de
SUMMARY:Kutterregatta beim Binnenhafenfest 2024
DESCRIPTION:
URL:https://kutterpullen-brake.de/event/kutterregatta-beim-binnenhafenfest-2024/
END:VEVENT
BEGIN:VEVENT
DTSTART;TZID=UTC:20240713T140000
DTEND;TZID=UTC:20240713T200000
DTSTAMP:20260419T215608
CREATED:20240314T065703Z
LAST-MODIFIED:20240314T065703Z
UID:100-1720879200-1720900800@kutterpullen-brake.de
SUMMARY:Merlintour mit Kaffee und Prosecco
DESCRIPTION:
URL:https://kutterpullen-brake.de/event/merlintour-mit-kaffee-und-prosecco/
END:VEVENT
BEGIN:VEVENT
DTSTART;TZID=UTC:20240316T090000
DTEND;TZID=UTC:20240316T170000
DTSTAMP:20260419T215608
CREATED:20240314T064946Z
LAST-MODIFIED:20240314T064946Z
UID:95-1710579600-1710608400@kutterpullen-brake.de
SUMMARY:Frühjahrsputz im Bootshaus
DESCRIPTION:BRSV\nFrühlingsputz im und am Bootshaus\nam 16.März 2024 ab 9:00 Uhr\nLiebe Vereinsmitglieder\,\nwir die Bootshauswarte und Hafenwarte möchten wie jedes Jahr unser\nBootshaus sowie Vereinsanlagen am Bootshaus für die kommende\nSommersaison 2024 wieder herrichten.\nUnter anderen stehen folgende Arbeiten an\, wie zum Beispiel die\nGrundreinigung der\n\n \n\n 	Tische und Stühle\,\n\n \n\n 	Theke und obere Borten\n\n \n\n 	Küche\n\n \n\n 	Fenster\n\n \n\n 	Tische und Stühle – Balkon\n\n \n\n 	Bänke – Steg\n\n \n\n 	Stege\n\n \n\n 	Anbringen der Wasserschläuche\n\n \n\nund ………….\n\n \n\nAm besten wäre es\, wenn Ihr euch im Vorfeld bei uns unter der Mailanschrift:\nedgar.pahl@ewetel.net anmeldet\, damit wir planen können. Denn es wäre\nauch schön\, wenn sich nicht immer die gleichen 4-5 Mitglieder angesprochen\nfühlen. Viele Hände schnelles Ende ….\nDie Bootshauswarte und die Hafenwarte
URL:https://kutterpullen-brake.de/event/fruehjahrsputz-im-bootshaus/
END:VEVENT
END:VCALENDAR